BEGIN:VCALENDAR
VERSION:2.0
PRODID:-//wp-events-plugin.com//7.2.3.1//EN
TZID:Europe/Berlin
X-WR-TIMEZONE:Europe/Berlin
BEGIN:VEVENT
UID:61@geschichtspark.de
DTSTART;TZID=Europe/Berlin:20260704T100000
DTEND;TZID=Europe/Berlin:20260705T180000
DTSTAMP:20260107T161628Z
URL:https://www.geschichtspark.de/events/slawentage-im-geschichtspark-baer
 nau/
SUMMARY:Slawentage
DESCRIPTION:Im Frühmittelalter erstreckte sich der Siedlungsraum der Slawe
 n bis weit ins heutige Bayern hinein. Doch wie genau lebten die Menschen f
 rüher? Das zeigen eindrucksvoll unsere Slawentage im Geschichtspark Bärn
 au.\n\nIn unserem Slawendorf können Sie an diesem Wochenende in die Bräu
 che\, Sitten und Kulte unserer Vorfahren eintauchen\, aber auch alles übe
 r ihr Alltagsleben und ihre Handwerkstechniken erfahren. Woher hatten die 
 Menschen im frühen Mittelalter Eisen? Warum ist ein irdener Tontopf wasse
 rdicht? Was ist Holzteer und wozu ist er gut? Wir beantworten all Ihre Fra
 gen!\n\nFür Interessierte wird es auch Darstellerführungen geben. Mehr d
 azu folgt.
ATTACH;FMTTYPE=image/jpeg:https://www.geschichtspark.de/wp-content/uploads
 /2025/04/Kleidung.jpg
END:VEVENT
BEGIN:VTIMEZONE
TZID:Europe/Berlin
X-LIC-LOCATION:Europe/Berlin
BEGIN:DAYLIGHT
DTSTART:20260329T030000
TZOFFSETFROM:+0100
TZOFFSETTO:+0200
TZNAME:CEST
END:DAYLIGHT
END:VTIMEZONE
END:VCALENDAR