BEGIN:VCALENDAR
VERSION:2.0
PRODID:-//wp-events-plugin.com//7.2.3.1//EN
TZID:Europe/Berlin
X-WR-TIMEZONE:Europe/Berlin
BEGIN:VEVENT
UID:59@geschichtspark.de
DTSTART;TZID=Europe/Berlin:20260424T100000
DTEND;TZID=Europe/Berlin:20260426T180000
DTSTAMP:20260420T115332Z
URL:https://www.geschichtspark.de/events/ordensritter-zu-gast-im-geschicht
 spark-baernau/
SUMMARY:Ordensritter zu Gast im Geschichtspark
DESCRIPTION:Zwischen Gebeten\, Mahlzeiten und Waffenvorführungen: Erleben 
 Sie die Ordensritter zu Gast im Geschichtspark Bärnau!\n\nIm April ist es
  soweit. Ritter des Templerordens und des Deutschen Ordens besuchen den Ge
 schichtspark. Dort zeigen sie das streng regulierte Leben von Ordensgemein
 schaften im Mittelalter. Dazu gehören regelmäßige Stundengebete\, Mahlz
 eiten mit Lesung durch einen Lektor\, Waffenübungen\, Waffenvorführungen
  und vieles mehr. Wir stellen uns die hölzerne Motte des Parks als die Gr
 enze des Christentums vor und lassen sie als Ordensburg lebendig werden. E
 rfahren Sie\, wie man gleichzeitig als Ritter kämpft und als Mönch in Ar
 mut\, Keuschheit und Gehorsam lebt.\n\n&nbsp\;\n\nHighlights:\n\nOffene Th
 emenführungen am Samstag und Sonntag jeweils um 11 und 15 Uhr\n\nSamstag 
 und Sonntag\, 10 Uhr\, feierlicher Einzug in die Elisabethkirche in Bärna
 u mit Gottesdienst.\n\nSo gliedert sich der Tagesablauf der Ordensritter:
  \n\n8.00 Prim: Alle Ordensleute finden sich selbstständig bei der Kapel
 le ein\n9.30 Kapitel: Besprechung des Tagesablaufs und Aufgabenverteilung.
 \n10.00 Terz: Direkt nach dem Kapitel: gemeinsamer Einzug in die Elisabeth
 kirche\n12.00 Sext: Alle Ordensleute finden sich selbstständig bei der Ka
 pelle ein\n12.15 Prandium: Mittagessen in der Herberge (schweigend mit Les
 ung)\n15.00 Non: Alle Ordensleute finden sich selbstständig bei der Kapel
 le ein\n18.00 Vesper: Alle Ordensleute finden sich selbstständig bei der 
 Kapelle ein\n18.15 Cena: Abendessen in der Herberge (schweigend mit Lesung
 )\n19:00 Komplet: Alle Ordensleute finden sich selbstständig bei der Kape
 lle ein\n19.30 “Schweigen”: Nach der Komplet gehen alle Ordensleute sc
 hweigend zu Bett und legen sich schlafen. Was danach passiert\, darüber s
 chweigen die Quellen \;
ATTACH;FMTTYPE=image/jpeg:https://www.geschichtspark.de/wp-content/uploads
 /2025/04/Ordensritter.jpg
END:VEVENT
BEGIN:VTIMEZONE
TZID:Europe/Berlin
X-LIC-LOCATION:Europe/Berlin
BEGIN:DAYLIGHT
DTSTART:20260329T030000
TZOFFSETFROM:+0100
TZOFFSETTO:+0200
TZNAME:CEST
END:DAYLIGHT
END:VTIMEZONE
END:VCALENDAR