BEGIN:VCALENDAR
VERSION:2.0
PRODID:-//wp-events-plugin.com//7.2.3.1//EN
TZID:Europe/Berlin
X-WR-TIMEZONE:Europe/Berlin
BEGIN:VEVENT
UID:65@geschichtspark.de
DTSTART;TZID=Europe/Berlin:20260912T100000
DTEND;TZID=Europe/Berlin:20260913T180000
DTSTAMP:20260108T100335Z
URL:https://www.geschichtspark.de/events/kuechenmeisterey-2/
SUMMARY:Küchenmeisterey
DESCRIPTION:Bei der Küchenmeisterey wird es lecker in Bärnau.\n\nImmer nu
 r Fleisch vom Grill und Getreidebrei? Von wegen\, das Mittelalter hatte vi
 ele Geschmacksrichtungen! Am Samstag und Sonntag dreht sich alles um das h
 istorische Kochen. Mehrere Kochteams geben Einblicke in die verschiedenen 
 Küchen\, Zubereitungsschritte und Kochbücher der jeweiligen Jahrhunderte
 .\n\nSchnuppern Sie bei der Küchenmeisterey die exotischen Kräuter und G
 ewürze\, schauen Sie in die Kochtöpfe und fragen Sie unseren Köchinnen 
 und Köchen Löcher in den Bauch!
ATTACH;FMTTYPE=image/jpeg:https://www.geschichtspark.de/wp-content/uploads
 /2025/07/Kuechenmeisterey_n-e1766497843456.jpg
END:VEVENT
BEGIN:VTIMEZONE
TZID:Europe/Berlin
X-LIC-LOCATION:Europe/Berlin
BEGIN:DAYLIGHT
DTSTART:20260329T030000
TZOFFSETFROM:+0100
TZOFFSETTO:+0200
TZNAME:CEST
END:DAYLIGHT
END:VTIMEZONE
END:VCALENDAR