BEGIN:VCALENDAR
VERSION:2.0
PRODID:-//wp-events-plugin.com//7.2.3.1//EN
TZID:Europe/Berlin
X-WR-TIMEZONE:Europe/Berlin
BEGIN:VEVENT
UID:62@geschichtspark.de
DTSTART;TZID=Europe/Berlin:20260808T100000
DTEND;TZID=Europe/Berlin:20260809T180000
DTSTAMP:20260108T093557Z
URL:https://www.geschichtspark.de/events/historisches-militaermanoever-im-
 august/
SUMMARY:Historisches Militärmanöver
DESCRIPTION:Die Zeit der Schwerter und Schilde\, die Zeit der Ritter\, Schl
 achten und Gemetzel: Dieses Bild haben die meisten Menschen vor Augen\, we
 nn sie an das Mittelalter denken. Das Historische Militärmanöver zeigt i
 m August\, wie es wirklich war.\n\nMit authentischen Waffen und Ausrüstun
 g spürt das Manöver den echten Geschehnissen in Krieg und Frieden nach. 
 Dabei wird schnell klar\, dass das Mittelalter keine besonders blutrünsti
 ge und dunkle Zeit war.\n\nUnsere Darsteller bieten ein lebendiges Bild vo
 n den Kämpfen der Zeit und dem Leben der einfachen Soldaten. Erleben Sie 
 Kampfvorführungen\, Schlachten\, Waffen- und Modenschauen\, lernen Sie hi
 storische Kampftechniken kennen oder schlüpfen Sie selbst in ein Kettenhe
 md.
ATTACH;FMTTYPE=image/jpeg:https://www.geschichtspark.de/wp-content/uploads
 /2025/07/Militaermanoever.jpg
END:VEVENT
BEGIN:VTIMEZONE
TZID:Europe/Berlin
X-LIC-LOCATION:Europe/Berlin
BEGIN:DAYLIGHT
DTSTART:20260329T030000
TZOFFSETFROM:+0100
TZOFFSETTO:+0200
TZNAME:CEST
END:DAYLIGHT
END:VTIMEZONE
END:VCALENDAR