BEGIN:VCALENDAR
VERSION:2.0
PRODID:-//wp-events-plugin.com//7.2.3.1//EN
TZID:Europe/Berlin
X-WR-TIMEZONE:Europe/Berlin
BEGIN:VEVENT
UID:74@geschichtspark.de
DTSTART;TZID=Europe/Berlin;VALUE=DATE:20260704
DTEND;TZID=Europe/Berlin;VALUE=DATE:20260705
DTSTAMP:20260408T114257Z
URL:https://www.geschichtspark.de/events/handwerkskurs-holzverbindungen-2/
SUMMARY:Handwerkskurs „Holzverbindungen“
DESCRIPTION:Seit der Jungsteinzeit beherrschen Menschen das Verbinden von H
 olzteilen. Wir nehmen Sie beim Handwerkskurs „Holzverbindungen“ mit au
 f eine tatkräftige Reise.\n\nLernen Sie\, einfache Zimmermannsverbindunge
 n zu messen\, herzustellen und zu montieren. Sie lernen traditionelle Zimm
 ermannswerkzeuge und deren Handhabung kennen.\n\nWir besprechen unterschie
 dliche Verbindungen wie „Zapfen und Loch“ oder „gerade Klinge“ und
  sie können beim traditionellen Balken behauen zuschauen. Am Ende des gan
 ztägigen Kurses steht der Bau einer einfachen Fachwerkwand.\n\nAnmeldunge
 n unter anmeldungen@geschichtspark.de\n\nKursdauer: 8 Stunden\n\nPreis: 17
 4 Euro\n\nTeilnehmerzahl: mindest. 4 Pers.\, max. 6 Pers.\n\nVerbindliche 
 Anmeldung bei Frau Marketa Monsportova unter marketa.monsportova@geschicht
 spark.de\n\nAnmerkung: An den Kurs schließt sich ein Kurs für Fortgeschr
 ittene an.
ATTACH;FMTTYPE=image/jpeg:https://www.geschichtspark.de/wp-content/uploads
 /2025/01/Holzverbindungen-1.jpg
END:VEVENT
BEGIN:VTIMEZONE
TZID:Europe/Berlin
X-LIC-LOCATION:Europe/Berlin
BEGIN:DAYLIGHT
DTSTART:20260329T030000
TZOFFSETFROM:+0100
TZOFFSETTO:+0200
TZNAME:CEST
END:DAYLIGHT
END:VTIMEZONE
END:VCALENDAR