BEGIN:VCALENDAR
VERSION:2.0
PRODID:-//wp-events-plugin.com//7.2.3.1//EN
TZID:Europe/Berlin
X-WR-TIMEZONE:Europe/Berlin
BEGIN:VEVENT
UID:46@geschichtspark.de
DTSTART;TZID=Europe/Berlin:20250921T090000
DTEND;TZID=Europe/Berlin:20250921T170000
DTSTAMP:20250903T103414Z
URL:https://www.geschichtspark.de/events/grundkurs-historisches-handwerk/
SUMMARY:Grundkurs „Historisches Handwerk“
DESCRIPTION:Wollen Sie einen Gesamteindruck von der historischen Bearbeitun
 g von Holz\, Stein und Eisen – komplett ohne maschinelle Hilfe – erhal
 ten? Dann ist dieser Kurs genau richtig für Sie! Unter Anleitung unserer 
 Handwerker bekommen Sie die Möglichkeit\, auf der Schaubaustelle mit orig
 inalen Werkzeugen und Fertigungstechniken aus dem 14. Jh. mitzuarbeiten un
 d alle typischen Tätigkeiten eigenhändig auszuprobieren.\n\nVerbindliche
  Anmeldung bis 12. Sept. 2025 bei Frau Marketa Monsportova unter marketa.m
 onsportova@geschichtspark.de\n\n\n&nbsp\;\n\nKursdauer: 9 bis 17 (1 Stunde
  Mittagspause)\n\nKursinhalt:\n\n- Steinspalten\, Steinbearbeitung - die T
 eilnehmer lernen verschiedene Mörtelvarianten zu mischen und probieren da
 s Einpassen der bearbeiteten Steine in eine Burgmauer aus.\n\n- Herstellun
 g einfacher Holzverbindungen\, die mit Holznagel gesichert werden.\n\n- Vo
 rführung des Balkenhauens mit der Möglichkeit zum Ausprobieren\, Schinde
 ln schneiden und verlegen.\n\nPreis: 119\,- Euro pro Person.
ATTACH;FMTTYPE=image/jpeg:https://www.geschichtspark.de/wp-content/uploads
 /2025/04/Grundkurs-Historisches-Handwerk.jpg
END:VEVENT
BEGIN:VTIMEZONE
TZID:Europe/Berlin
X-LIC-LOCATION:Europe/Berlin
BEGIN:DAYLIGHT
DTSTART:20250330T030000
TZOFFSETFROM:+0100
TZOFFSETTO:+0200
TZNAME:CEST
END:DAYLIGHT
END:VTIMEZONE
END:VCALENDAR